1.000000
0.000000
0.000000
-1.000000
634590.500000
4734609.500000
