1.000000
0.000000
0.000000
-1.000000
661760.500000
4739849.500000
