1.000000
0.000000
0.000000
-1.000000
668690.500000
4735389.500000
