1.000000
0.000000
0.000000
-1.000000
539160.500000
4724059.500000
