1.000000
0.000000
0.000000
-1.000000
552850.500000
4719539.500000
