1.000000
0.000000
0.000000
-1.000000
566520.500000
4719669.500000
