1.000000
0.000000
0.000000
-1.000000
566570.500000
4715039.500000
