1.000000
0.000000
0.000000
-1.000000
614360.500000
4720339.500000
