1.000000
0.000000
0.000000
-1.000000
593920.500000
4715379.500000
