1.000000
0.000000
0.000000
-1.000000
614430.500000
4715709.500000
