1.000000
0.000000
0.000000
-1.000000
593980.500000
4710759.500000
