1.000000
0.000000
0.000000
-1.000000
621190.500000
4720459.500000
