1.000000
0.000000
0.000000
-1.000000
621350.500000
4711209.500000
