1.000000
0.000000
0.000000
-1.000000
655260.500000
4725799.500000
