1.000000
0.000000
0.000000
-1.000000
546110.500000
4705599.500000
