1.000000
0.000000
0.000000
-1.000000
573500.500000
4705859.500000
