1.000000
0.000000
0.000000
-1.000000
580350.500000
4705939.500000
