1.000000
0.000000
0.000000
-1.000000
600890.500000
4706229.500000
