1.000000
0.000000
0.000000
-1.000000
594170.500000
4696879.500000
