1.000000
0.000000
0.000000
-1.000000
607950.500000
4692459.500000
