1.000000
0.000000
0.000000
-1.000000
621430.500000
4706579.500000
