1.000000
0.000000
0.000000
-1.000000
587720.500000
4664399.500000
