1.000000
0.000000
0.000000
-1.000000
587830.500000
4655139.500000
