1.000000
0.000000
0.000000
-1.000000
615190.500000
4669449.500000
