1.000000
0.000000
0.000000
-1.000000
601490.500000
4664589.500000
