1.000000
0.000000
0.000000
-1.000000
622320.500000
4655689.500000
