1.000000
0.000000
0.000000
-1.000000
629210.500000
4655819.500000
