1.000000
0.000000
0.000000
-1.000000
615500.500000
4650939.500000
