1.000000
0.000000
0.000000
-1.000000
615650.500000
4641689.500000
