1.000000
0.000000
0.000000
-1.000000
636200.500000
4651329.500000
