1.000000
0.000000
0.000000
-1.000000
592850.500000
4794039.500000
