1.000000
0.000000
0.000000
-1.000000
586260.500000
4780069.500000
