1.000000
0.000000
0.000000
-1.000000
572810.500000
4770639.500000
