1.000000
0.000000
0.000000
-1.000000
606660.500000
4775749.500000
