1.000000
0.000000
0.000000
-1.000000
626910.500000
4780739.500000
