2.500000
0.000000
0.000000
-2.500000
552531.250000
4761238.750000
