2.500000
0.000000
0.000000
-2.500000
566121.250000
4761388.750000
