2.500000
0.000000
0.000000
-2.500000
607021.250000
4752728.750000
