2.500000
0.000000
0.000000
-2.500000
620461.250000
4762238.750000
