2.500000
0.000000
0.000000
-2.500000
634231.250000
4753258.750000
