2.500000
0.000000
0.000000
-2.500000
566391.250000
4733628.750000
