2.500000
0.000000
0.000000
-2.500000
607161.250000
4743478.750000
