2.500000
0.000000
0.000000
-2.500000
539161.250000
4724108.750000
