2.500000
0.000000
0.000000
-2.500000
593921.250000
4715488.750000
