2.500000
0.000000
0.000000
-2.500000
635311.250000
4697738.750000
