2.500000
0.000000
0.000000
-2.500000
608171.250000
4678708.750000
