2.500000
0.000000
0.000000
-2.500000
580771.250000
4669028.750000
