2.500000
0.000000
0.000000
-2.500000
580881.250000
4659778.750000
