2.500000
0.000000
0.000000
-2.500000
608731.250000
4641698.750000
