2.500000
0.000000
0.000000
-2.500000
636201.250000
4651478.750000
